BEGIN:VCALENDAR
VERSION:2.0
PRODID:icalendar-ruby
CALSCALE:GREGORIAN
METHOD:PUBLISH
BEGIN:VEVENT
DTSTAMP:20260419T205801Z
UID:5-906538@unityoflondon.com
DTSTART:20261018T143000Z
DTEND:20261018T153000Z
CLASS:PUBLIC
CREATED:20260419T143340
DESCRIPTION:Sunday Service\nUnity of London has a schedule of guest speaker
 s.  Our Spiritual Leader Pauline-Duncan Thrasher presents regularly.  Th
 e monthly service speakers and message titles are found on the home page.
  \nEach service includes a brief meditation.\nOur own Jim Chapman perform
 s live music every other week.   Other guest musicians may also be heard
 .\nGo to the "Sunday Service Videos" page for previous recordings.
LAST-MODIFIED:20260419T143340
LOCATION:In-House and on Zoom!
SUMMARY:Sunday Service
URL;VALUE=URI:https://unityoflondon.com/events/sunday-service/2026-10-18
ATTACH;FILENAME=IMG_0762-c.JPG;FMTTYPE=image/jpeg:https://dq5pwpg1q8ru0.clo
 udfront.net/2026/03/02/16/25/37/f4fc76d3-4934-42ab-ae62-cfe6588214db/IMG_0
 762-c.JPG
END:VEVENT
END:VCALENDAR
